BEGIN:VCALENDAR
VERSION:2.0
PRODID:-//eventon.com NONSGML v1.0//EN
CALSCALE:GREGORIAN
METHOD:PUBLISH
BEGIN:VEVENT
UID:69e5812651fef
DTSTAMP:20260420T012806Z
DTSTART:20260516T220000Z
DTEND:20260517T010000Z
LOCATION:OPERA ARTE
SUMMARY:CONFRATERNIZAÇÃO BODAS MÁRCIO
DESCRIPTION:Resp. Grazi Indicação Bernardo&nbsp; 60 pax\nhttps://adm.nizo
 gomide.com.br/blog/events/confraternizacao-bodas-marcio/
URL:https://adm.nizogomide.com.br/blog/events/confraternizacao-bodas-marcio/
END:VEVENT
END:VCALENDAR