BEGIN:VCALENDAR
VERSION:2.0
PRODID:-//eventon.com NONSGML v1.0//EN
CALSCALE:GREGORIAN
METHOD:PUBLISH
BEGIN:VEVENT
UID:69e5845965869
DTSTAMP:20260420T014145Z
DTSTART:20261121T200000Z
DTEND:20261121T120000Z
LOCATION:ESPAÇO CARBELLE SAO JOSE DOS PINHAIS
SUMMARY:Casamento Thayza e Pedro
DESCRIPTION:CONTRATO ASSNADO RESP THAI\nhttps://adm.nizogomide.com.br/blog/
 events/casamento-thayza-e-pedro/
URL:https://adm.nizogomide.com.br/blog/events/casamento-thayza-e-pedro/
END:VEVENT
END:VCALENDAR