BEGIN:VCALENDAR
VERSION:2.0
PRODID:-//eventon.com NONSGML v1.0//EN
CALSCALE:GREGORIAN
METHOD:PUBLISH
BEGIN:VEVENT
UID:69e5809e3d42c
DTSTAMP:20260420T012550Z
DTSTART:20270123T220000Z
DTEND:20270124T025900Z
LOCATION:Clube Curitibano - Azul Av. Getúlio Vargas\,  2857 - Água Verde
SUMMARY:Festa Aniversário Elza e Edimar
DESCRIPTION:PRÉ RESERVA RESP NIZO\nhttps://adm.nizogomide.com.br/blog/even
 ts/casamento-elza-e-edimar/
URL:https://adm.nizogomide.com.br/blog/events/casamento-elza-e-edimar/
END:VEVENT
END:VCALENDAR