BEGIN:VCALENDAR
VERSION:2.0
PRODID:-//eventon.com NONSGML v1.0//EN
CALSCALE:GREGORIAN
METHOD:PUBLISH
BEGIN:VEVENT
UID:69e582ee25924
DTSTAMP:20260420T013542Z
DTSTART:20260425T223000Z
DTEND:20260426T010000Z
LOCATION:HOTEL SURYAA ALPHAVILLE
SUMMARY:ANIVERSÁRIO 15 ANOS ALINE
DESCRIPTION:Resp. Grazi Somente recepção 2 horas\nhttps://adm.nizogomide.
 com.br/blog/events/aniversario-15-anos-aline/
URL:https://adm.nizogomide.com.br/blog/events/aniversario-15-anos-aline/
END:VEVENT
END:VCALENDAR