BEGIN:VCALENDAR
VERSION:2.0
PRODID:-//eventon.com NONSGML v1.0//EN
CALSCALE:GREGORIAN
METHOD:PUBLISH
BEGIN:VEVENT
UID:69e57d300292d
DTSTAMP:20260420T011112Z
DTSTART:20260526T210000Z
DTEND:20260527T000000Z
LOCATION:
SUMMARY:CORPORATIVO HOSPITAL CONSTANTINI
DESCRIPTION:Resp. Grazi Indicação Bernardo&nbsp; Aniversário de 28 anos 
 da empresa 80 pax\nhttps://adm.nizogomide.com.br/blog/events/corporativo-ho
 spital-constantini/
URL:https://adm.nizogomide.com.br/blog/events/corporativo-hospital-constantini/
END:VEVENT
END:VCALENDAR