BEGIN:VCALENDAR
VERSION:2.0
PRODID:-//eventon.com NONSGML v1.0//EN
CALSCALE:GREGORIAN
METHOD:PUBLISH
BEGIN:VEVENT
UID:69e58212e7f02
DTSTAMP:20260420T013202Z
DTSTART:20261205T180000Z
DTEND:20261206T120000Z
LOCATION:Foz do Iguaçu
SUMMARY:Festa 15 Anos para Paula
DESCRIPTION:PRÉ RESERVA RESP NIZO\nhttps://adm.nizogomide.com.br/blog/even
 ts/festa-15-anos-para-paula/
URL:https://adm.nizogomide.com.br/blog/events/festa-15-anos-para-paula/
END:VEVENT
END:VCALENDAR