BEGIN:VCALENDAR
VERSION:2.0
PRODID:-//eventon.com NONSGML v1.0//EN
CALSCALE:GREGORIAN
METHOD:PUBLISH
BEGIN:VEVENT
UID:69e57bc99d83c
DTSTAMP:20260420T010513Z
DTSTART:20260627T200000Z
DTEND:20260628T010000Z
LOCATION:
SUMMARY:CORPORATIVO VIVAPARK PORTO BELO
DESCRIPTION:200 pax Indicação Bernardo Contato Bruna\,  produtora ALIIA 2
 a reserva Bernardo&nbsp;\nhttps://adm.nizogomide.com.br/blog/events/corpora
 tivo-vivapark-porto-belo/
URL:https://adm.nizogomide.com.br/blog/events/corporativo-vivapark-porto-belo/
END:VEVENT
END:VCALENDAR