BEGIN:VCALENDAR
VERSION:2.0
PRODID:-//eventon.com NONSGML v1.0//EN
CALSCALE:GREGORIAN
METHOD:PUBLISH
BEGIN:VEVENT
UID:69e57f21056a2
DTSTAMP:20260420T011929Z
DTSTART:20260822T190000Z
DTEND:20260822T190000Z
LOCATION:CAMPINA GRANDE DO SUL- PR
SUMMARY:CASAMENTO JANAINA E VITOR
DESCRIPTION:130 PAX\nhttps://adm.nizogomide.com.br/blog/events/casamento-ja
 naina-e-vitor/
URL:https://adm.nizogomide.com.br/blog/events/casamento-janaina-e-vitor/
END:VEVENT
END:VCALENDAR