BEGIN:VCALENDAR
VERSION:2.0
PRODID:-//eventon.com NONSGML v1.0//EN
CALSCALE:GREGORIAN
METHOD:PUBLISH
BEGIN:VEVENT
UID:69e584e3e3fed
DTSTAMP:20260420T014403Z
DTSTART:20261220T000000Z
DTEND:20261219T170000Z
LOCATION:Nuvem de Côco Buffet  R. Paulo Gorski\,  1740\,  Curitiba - PR
SUMMARY:Evento Corporativo Pedroxidos do Brasil
DESCRIPTION:CONTRATO ASSINADO RESP TECA\nhttps://adm.nizogomide.com.br/blog
 /events/evento-corporativo-pedroxidos-do-brasil/
URL:https://adm.nizogomide.com.br/blog/events/evento-corporativo-pedroxidos-do-brasil/
END:VEVENT
END:VCALENDAR