BEGIN:VCALENDAR
VERSION:2.0
PRODID:-//eventon.com NONSGML v1.0//EN
CALSCALE:GREGORIAN
METHOD:PUBLISH
BEGIN:VEVENT
UID:69e5825f50b56
DTSTAMP:20260420T013319Z
DTSTART:20260630T170000Z
DTEND:20260630T150000Z
LOCATION:Mabu Thermas Grand Resort  Av. das Cataratas\,  3175 - Vila Yolanda\,  Foz do Iguaçu - PR\,  85853-000
SUMMARY:Evento Corporativo Airpromo
DESCRIPTION:PRÉ RESERVA RESP TECA\nhttps://adm.nizogomide.com.br/blog/even
 ts/evento-corporativo-airpromo/
URL:https://adm.nizogomide.com.br/blog/events/evento-corporativo-airpromo/
END:VEVENT
END:VCALENDAR