BEGIN:VCALENDAR
VERSION:2.0
PRODID:-//eventon.com NONSGML v1.0//EN
CALSCALE:GREGORIAN
METHOD:PUBLISH
BEGIN:VEVENT
UID:69e57f207bfc7
DTSTAMP:20260420T011928Z
DTSTART:20270227T150000Z
DTEND:20270228T025900Z
LOCATION:ENERGIA DA MATA
SUMMARY:CASAMENTO SAMARA E VITOR
DESCRIPTION:150 PAX\nhttps://adm.nizogomide.com.br/blog/events/casamento-sa
 mara-e-vitor/
URL:https://adm.nizogomide.com.br/blog/events/casamento-samara-e-vitor/
END:VEVENT
END:VCALENDAR