BEGIN:VCALENDAR
VERSION:2.0
PRODID:-//eventon.com NONSGML v1.0//EN
CALSCALE:GREGORIAN
METHOD:PUBLISH
BEGIN:VEVENT
UID:69e589c92fa09
DTSTAMP:20260420T020457Z
DTSTART:20270515T220000Z
DTEND:20270515T170000Z
LOCATION:Castelo do Batel Av. do Batel\,  1323 - Batel\,  Curitiba - PR\, 
SUMMARY:Casamento Amanda e Gustavo
DESCRIPTION:PRÉ RESERVA RESP NIZO\nhttps://adm.nizogomide.com.br/blog/even
 ts/casamento-amanda-e-gustavo/
URL:https://adm.nizogomide.com.br/blog/events/casamento-amanda-e-gustavo/
END:VEVENT
END:VCALENDAR