BEGIN:VCALENDAR
VERSION:2.0
PRODID:-//eventon.com NONSGML v1.0//EN
CALSCALE:GREGORIAN
METHOD:PUBLISH
BEGIN:VEVENT
UID:69e586d94834e
DTSTAMP:20260420T015225Z
DTSTART:20260704T220000Z
DTEND:20260705T050000Z
LOCATION:Itajai - SC
SUMMARY:Festa Aniversario Eugenio
DESCRIPTION:CONTRATO ASSINADO RESP NIZO\nhttps://adm.nizogomide.com.br/blog
 /events/festa-aniversario-eugenio/
URL:https://adm.nizogomide.com.br/blog/events/festa-aniversario-eugenio/
END:VEVENT
END:VCALENDAR