BEGIN:VCALENDAR
VERSION:2.0
PRODID:-//eventon.com NONSGML v1.0//EN
CALSCALE:GREGORIAN
METHOD:PUBLISH
BEGIN:VEVENT
UID:69e58784532fc
DTSTAMP:20260420T015516Z
DTSTART:20270123T220000Z
DTEND:20270123T160000Z
LOCATION:Clube Curitibano - salão Azul Av. Getúlio Vargas\,  2857 - Água Verde
SUMMARY:Aniversario Elza e Edimar 50 e 60 anos
DESCRIPTION:PRÉ RESERVA RESP NIZO\nhttps://adm.nizogomide.com.br/blog/even
 ts/aniversario-elza-e-edimar-50-e-60-anos/
URL:https://adm.nizogomide.com.br/blog/events/aniversario-elza-e-edimar-50-e-60-anos/
END:VEVENT
END:VCALENDAR