BEGIN:VCALENDAR
VERSION:2.0
PRODID:-//eventon.com NONSGML v1.0//EN
CALSCALE:GREGORIAN
METHOD:PUBLISH
BEGIN:VEVENT
UID:69e58739063fc
DTSTAMP:20260420T015401Z
DTSTART:20260912T190000Z
DTEND:20260913T000000Z
LOCATION:Castelo da Serra R. Nova Tirol\,  1188\,  Piraquara
SUMMARY:CASAMENTO JOHANNA E GUSTAVO
DESCRIPTION:Resp Grazi&nbsp;\nhttps://adm.nizogomide.com.br/blog/events/cas
 amento-johanna-e-gustavo/
URL:https://adm.nizogomide.com.br/blog/events/casamento-johanna-e-gustavo/
END:VEVENT
END:VCALENDAR