BEGIN:VCALENDAR
VERSION:2.0
PRODID:-//eventon.com NONSGML v1.0//EN
CALSCALE:GREGORIAN
METHOD:PUBLISH
BEGIN:VEVENT
UID:69e57d3d8d4b1
DTSTAMP:20260420T011125Z
DTSTART:20260718T220000Z
DTEND:20260719T010000Z
LOCATION:K.SA RESTAURANTE
SUMMARY:ANIVERSÁRIO CLIENTE K.SA LIA
DESCRIPTION:Resp. Grazi Contato: Mônica &#8211; gerente\nhttps://adm.nizog
 omide.com.br/blog/events/aniversario-cliente-k-sa-lia/
URL:https://adm.nizogomide.com.br/blog/events/aniversario-cliente-k-sa-lia/
END:VEVENT
END:VCALENDAR