BEGIN:VCALENDAR
VERSION:2.0
PRODID:-//eventon.com NONSGML v1.0//EN
CALSCALE:GREGORIAN
METHOD:PUBLISH
BEGIN:VEVENT
UID:69e58e5a1270d
DTSTAMP:20260420T022426Z
DTSTART:20260514T220000Z
DTEND:20260515T010000Z
LOCATION:
SUMMARY:CORPORATIVO AUTOHYPE VEÍCULOS
DESCRIPTION:Resp. Grazi&nbsp; 100 pax\nhttps://adm.nizogomide.com.br/blog/e
 vents/corporativo-autohype-veiculos/
URL:https://adm.nizogomide.com.br/blog/events/corporativo-autohype-veiculos/
END:VEVENT
END:VCALENDAR