BEGIN:VCALENDAR
VERSION:2.0
PRODID:-//eventon.com NONSGML v1.0//EN
CALSCALE:GREGORIAN
METHOD:PUBLISH
BEGIN:VEVENT
UID:69e58739c3ff9
DTSTAMP:20260420T015401Z
DTSTART:20260905T170000Z
DTEND:20260905T170000Z
LOCATION:SALAO JARDIM ANDRADE SAO JOSÉ DOS PINHAIS
SUMMARY:FESTA 15 ANOS ANA CAROLINA
DESCRIPTION:120PAX\nhttps://adm.nizogomide.com.br/blog/events/festa-15-anos
 -ana-carolina/
URL:https://adm.nizogomide.com.br/blog/events/festa-15-anos-ana-carolina/
END:VEVENT
END:VCALENDAR