BEGIN:VCALENDAR
VERSION:2.0
PRODID:-//eventon.com NONSGML v1.0//EN
CALSCALE:GREGORIAN
METHOD:PUBLISH
BEGIN:VEVENT
UID:69e58784d21f9
DTSTAMP:20260420T015516Z
DTSTART:20270508T170000Z
DTEND:20270508T170000Z
LOCATION:VILLA DO ROCIO ALMIRANTE TAMANDARE
SUMMARY:CASAMENTO STELLA E LUAN
DESCRIPTION:CASAMENTO STELLA E LUAN\nhttps://adm.nizogomide.com.br/blog/eve
 nts/casamento-stella-e-luan/
URL:https://adm.nizogomide.com.br/blog/events/casamento-stella-e-luan/
END:VEVENT
END:VCALENDAR