BEGIN:VCALENDAR
VERSION:2.0
PRODID:-//eventon.com NONSGML v1.0//EN
CALSCALE:GREGORIAN
METHOD:PUBLISH
BEGIN:VEVENT
UID:69e58313deab4
DTSTAMP:20260420T013619Z
DTSTART:20260822T220000Z
DTEND:20260822T130000Z
LOCATION:Villa Augusta Eventos R. Nicarágua\,  176 - Bacacheri\,  Curitiba - PR
SUMMARY:Casamento Ana e leonardo
DESCRIPTION:CONTRATO ASSINADO RESP NIZO\nhttps://adm.nizogomide.com.br/blog
 /events/casamento-ana-e-leonardo/
URL:https://adm.nizogomide.com.br/blog/events/casamento-ana-e-leonardo/
END:VEVENT
END:VCALENDAR