BEGIN:VCALENDAR
VERSION:2.0
PRODID:-//eventon.com NONSGML v1.0//EN
CALSCALE:GREGORIAN
METHOD:PUBLISH
BEGIN:VEVENT
UID:69e589c78160c
DTSTAMP:20260420T020455Z
DTSTART:20270501T120000Z
DTEND:20270502T120000Z
LOCATION:SAO PAULO SAO PAULO
SUMMARY:Casamento  Laura Malzoni
DESCRIPTION:PRÉ RSERVA RESP NIZO&nbsp;\nhttps://adm.nizogomide.com.br/blog
 /events/casamento-laura-malzoni/
URL:https://adm.nizogomide.com.br/blog/events/casamento-laura-malzoni/
END:VEVENT
END:VCALENDAR