BEGIN:VCALENDAR
VERSION:2.0
PRODID:-//eventon.com NONSGML v1.0//EN
CALSCALE:GREGORIAN
METHOD:PUBLISH
BEGIN:VEVENT
UID:69e58bd16b6e7
DTSTAMP:20260420T021337Z
DTSTART:20261106T120000Z
DTEND:20261106T120000Z
LOCATION:
SUMMARY:Otavio (ocupado)
DESCRIPTION:CONTRATO ASSINADO RESP OTAVIO\nhttps://adm.nizogomide.com.br/bl
 og/events/otavio-ocupado-27/
URL:https://adm.nizogomide.com.br/blog/events/otavio-ocupado-27/
END:VEVENT
END:VCALENDAR