BEGIN:VCALENDAR
VERSION:2.0
PRODID:-//eventon.com NONSGML v1.0//EN
CALSCALE:GREGORIAN
METHOD:PUBLISH
BEGIN:VEVENT
UID:69e58bd04f6ea
DTSTAMP:20260420T021336Z
DTSTART:20261205T180000Z
DTEND:20261205T180000Z
LOCATION:Klaine Garden Lounge R. Justo Manfron\,  1431 - Santa Felicidade\,  Curitiba - PR
SUMMARY:FESTA 15 ANOS RAFAELA
DESCRIPTION:FESTA 15 ANOS RAFAELA\nhttps://adm.nizogomide.com.br/blog/event
 s/festa-15-anos-rafaela/
URL:https://adm.nizogomide.com.br/blog/events/festa-15-anos-rafaela/
END:VEVENT
END:VCALENDAR