BEGIN:VCALENDAR
VERSION:2.0
PRODID:-//eventon.com NONSGML v1.0//EN
CALSCALE:GREGORIAN
METHOD:PUBLISH
BEGIN:VEVENT
UID:69e5850eed80c
DTSTAMP:20260420T014446Z
DTSTART:20260912T190000Z
DTEND:20260913T050000Z
LOCATION:Castelo da Serra R. Nova Tirol\,  1188\,  Piraquara
SUMMARY:Casamento Julianna e Gustavo
DESCRIPTION:PRÉ RESERVA RESP TECA\nhttps://adm.nizogomide.com.br/blog/even
 ts/casamento-julianna-e-gustavo/
URL:https://adm.nizogomide.com.br/blog/events/casamento-julianna-e-gustavo/
END:VEVENT
END:VCALENDAR