BEGIN:VCALENDAR
VERSION:2.0
PRODID:-//eventon.com NONSGML v1.0//EN
CALSCALE:GREGORIAN
METHOD:PUBLISH
BEGIN:VEVENT
UID:69e58c7b991d4
DTSTAMP:20260420T021627Z
DTSTART:20261009T210000Z
DTEND:20261010T010000Z
LOCATION:La Campesina
SUMMARY:CASAMENTO JÃ‰SSIKA E EDUARDO
DESCRIPTION:Resp. Grazi IndicaÃ§Ã£o Bernardo&nbsp; 60 pax RecepÃ§Ã£o CerimÃ
 ´nia Jantar\nhttps://adm.nizogomide.com.br/blog/events/casamento-jessika-e-
 eduardo/
URL:https://adm.nizogomide.com.br/blog/events/casamento-jessika-e-eduardo/
END:VEVENT
END:VCALENDAR