BEGIN:VCALENDAR
VERSION:2.0
PRODID:-//eventon.com NONSGML v1.0//EN
CALSCALE:GREGORIAN
METHOD:PUBLISH
BEGIN:VEVENT
UID:69e586d9c2941
DTSTAMP:20260420T015225Z
DTSTART:20261012T210000Z
DTEND:20261013T000000Z
LOCATION:Villa Lita
SUMMARY:CASAMENTO REBECA E RAFAEL
DESCRIPTION:Resp. Grazi Indicação Bernardo&nbsp; 100 pax\nhttps://adm.niz
 ogomide.com.br/blog/events/casamento-rebeca-e-rafael/
URL:https://adm.nizogomide.com.br/blog/events/casamento-rebeca-e-rafael/
END:VEVENT
END:VCALENDAR