BEGIN:VCALENDAR
VERSION:2.0
PRODID:-//eventon.com NONSGML v1.0//EN
CALSCALE:GREGORIAN
METHOD:PUBLISH
BEGIN:VEVENT
UID:69e589d3c00bd
DTSTAMP:20260420T020507Z
DTSTART:20260420T150000Z
DTEND:20260420T120000Z
LOCATION:Celso Freire Gastronomia  R. Atílio Bório\,  1959 - Juveve\,  Curitiba - PR
SUMMARY:Casamento Maria Fernanda e Lucas
DESCRIPTION:PRÉ RESERVA RESP TECA\nhttps://adm.nizogomide.com.br/blog/even
 ts/casamento-maria-fernanda-e-lucas/
URL:https://adm.nizogomide.com.br/blog/events/casamento-maria-fernanda-e-lucas/
END:VEVENT
END:VCALENDAR