BEGIN:VCALENDAR
VERSION:2.0
PRODID:-//eventon.com NONSGML v1.0//EN
CALSCALE:GREGORIAN
METHOD:PUBLISH
BEGIN:VEVENT
UID:69e5821211fd2
DTSTAMP:20260420T013202Z
DTSTART:20261031T180000Z
DTEND:20261031T180000Z
LOCATION:Iate Clube Porto Belo
SUMMARY:CASAMENTO MARIA VICTORIA E VITOR
DESCRIPTION:Resp. Grazi 150 pax Caso não tenha a turnê da Argentina\,  Be
 rnardo está cotado tb.\nhttps://adm.nizogomide.com.br/blog/events/casament
 o-maria-victoria-e-vitor/
URL:https://adm.nizogomide.com.br/blog/events/casamento-maria-victoria-e-vitor/
END:VEVENT
END:VCALENDAR