BEGIN:VCALENDAR
VERSION:2.0
PRODID:-//eventon.com NONSGML v1.0//EN
CALSCALE:GREGORIAN
METHOD:PUBLISH
BEGIN:VEVENT
UID:69e58be0446fd
DTSTAMP:20260420T021352Z
DTSTART:20261120T180000Z
DTEND:20261121T010000Z
LOCATION:Chacara Illustratti São José dos Pinhais
SUMMARY:CASAMENTO BÁRBARA E MURILLO
DESCRIPTION:Resp. Grazi 100 pax\nhttps://adm.nizogomide.com.br/blog/events/
 casamento-barbara-e-murillo/
URL:https://adm.nizogomide.com.br/blog/events/casamento-barbara-e-murillo/
END:VEVENT
END:VCALENDAR