BEGIN:VCALENDAR
VERSION:2.0
PRODID:-//eventon.com NONSGML v1.0//EN
CALSCALE:GREGORIAN
METHOD:PUBLISH
BEGIN:VEVENT
UID:69e584e3e3deb
DTSTAMP:20260420T014403Z
DTSTART:20260510T010000Z
DTEND:20260510T025900Z
LOCATION:
SUMMARY:Festa Helcio Kronberg
DESCRIPTION:\nhttps://adm.nizogomide.com.br/blog/events/festa-helcio-kronbe
 rg/
URL:https://adm.nizogomide.com.br/blog/events/festa-helcio-kronberg/
END:VEVENT
END:VCALENDAR