BEGIN:VCALENDAR
VERSION:2.0
PRODID:-//eventon.com NONSGML v1.0//EN
CALSCALE:GREGORIAN
METHOD:PUBLISH
BEGIN:VEVENT
UID:69e58124c1944
DTSTAMP:20260420T012804Z
DTSTART:20261010T200000Z
DTEND:20261010T200000Z
LOCATION:Hipica BR116\,  6055\,  TARUMÃ
SUMMARY:CASAMENTO LUCIA E EVANDRO
DESCRIPTION:CASAMENTO LUCIA E EVANDRO\nhttps://adm.nizogomide.com.br/blog/e
 vents/casamento-lucia-e-evandro/
URL:https://adm.nizogomide.com.br/blog/events/casamento-lucia-e-evandro/
END:VEVENT
END:VCALENDAR