BEGIN:VCALENDAR
VERSION:2.0
PRODID:-//eventon.com NONSGML v1.0//EN
CALSCALE:GREGORIAN
METHOD:PUBLISH
BEGIN:VEVENT
UID:69e578a7e2a51
DTSTAMP:20260420T005151Z
DTSTART:20270327T180000Z
DTEND:20270327T230000Z
LOCATION:Chácara Cinco Elementos sao jose dos pinhais
SUMMARY:CASAMENTO CLARA E GABRIEL
DESCRIPTION:Resp. Grazi 150 pax Cerimônia Jantar\nhttps://adm.nizogomide.c
 om.br/blog/events/casamento-clara-e-gabriel/
URL:https://adm.nizogomide.com.br/blog/events/casamento-clara-e-gabriel/
END:VEVENT
END:VCALENDAR