BEGIN:VCALENDAR
VERSION:2.0
PRODID:-//eventon.com NONSGML v1.0//EN
CALSCALE:GREGORIAN
METHOD:PUBLISH
BEGIN:VEVENT
UID:69e586d8ca57e
DTSTAMP:20260420T015224Z
DTSTART:20261120T130000Z
DTEND:20261121T025900Z
LOCATION:Chacara Illustratti São José dos Pinhais
SUMMARY:CASAMENTO BARBARA E MURILO
DESCRIPTION:100PAX\nhttps://adm.nizogomide.com.br/blog/events/casamento-bar
 bara-e-murilo/
URL:https://adm.nizogomide.com.br/blog/events/casamento-barbara-e-murilo/
END:VEVENT
END:VCALENDAR