BEGIN:VCALENDAR
VERSION:2.0
PRODID:-//eventon.com NONSGML v1.0//EN
CALSCALE:GREGORIAN
METHOD:PUBLISH
BEGIN:VEVENT
UID:69e58eb80642c
DTSTAMP:20260420T022600Z
DTSTART:20260425T150000Z
DTEND:20260425T180000Z
LOCATION:Las Lomas Palacete do Batel
SUMMARY:CONFRATERNIZAÇÃO ALMOÇO CASAMENTO CIVIL EDVANI
DESCRIPTION:Resp. Grazi Indicação Bernardo&nbsp; 13 pax\nhttps://adm.nizo
 gomide.com.br/blog/events/confraternizacao-almoco-casamento-civil-edvani/
URL:https://adm.nizogomide.com.br/blog/events/confraternizacao-almoco-casamento-civil-edvani/
END:VEVENT
END:VCALENDAR