BEGIN:VCALENDAR
VERSION:2.0
PRODID:-//eventon.com NONSGML v1.0//EN
CALSCALE:GREGORIAN
METHOD:PUBLISH
BEGIN:VEVENT
UID:69e582ef61a8b
DTSTAMP:20260420T013543Z
DTSTART:20260912T200000Z
DTEND:20260912T200000Z
LOCATION:Castelo do Batel Av. do Batel\,  1323 - Batel\,  Curitiba - PR\, 
SUMMARY:Casamento para João Callas
DESCRIPTION:PRÉ RESERVA RESP TECA\nhttps://adm.nizogomide.com.br/blog/even
 ts/casamento-para-joao-callas/
URL:https://adm.nizogomide.com.br/blog/events/casamento-para-joao-callas/
END:VEVENT
END:VCALENDAR