BEGIN:VCALENDAR
VERSION:2.0
PRODID:-//eventon.com NONSGML v1.0//EN
CALSCALE:GREGORIAN
METHOD:PUBLISH
BEGIN:VEVENT
UID:69e5821357762
DTSTAMP:20260420T013203Z
DTSTART:20270417T170000Z
DTEND:20270417T170000Z
LOCATION:CHACARA LLAR CAMPINA GRANDE DO SUL
SUMMARY:CASAMENTO ISABELLA  E LUCAS
DESCRIPTION:250 PAX\nhttps://adm.nizogomide.com.br/blog/events/casamento-is
 abella-e-lucas/
URL:https://adm.nizogomide.com.br/blog/events/casamento-isabella-e-lucas/
END:VEVENT
END:VCALENDAR