BEGIN:VCALENDAR
VERSION:2.0
PRODID:-//eventon.com NONSGML v1.0//EN
CALSCALE:GREGORIAN
METHOD:PUBLISH
BEGIN:VEVENT
UID:69e57d3c49c2c
DTSTAMP:20260420T011124Z
DTSTART:20260410T200000Z
DTEND:20260410T170000Z
LOCATION:JOINVILLE SANTA CATARINA
SUMMARY:Evento Luiz Preto
DESCRIPTION:FECHADO VERBALMENTE RESP NIZO\nhttps://adm.nizogomide.com.br/bl
 og/events/evento-luiz-preto/
URL:https://adm.nizogomide.com.br/blog/events/evento-luiz-preto/
END:VEVENT
END:VCALENDAR