BEGIN:VCALENDAR
VERSION:2.0
PRODID:-//eventon.com NONSGML v1.0//EN
CALSCALE:GREGORIAN
METHOD:PUBLISH
BEGIN:VEVENT
UID:69e589e30f62d
DTSTAMP:20260420T020523Z
DTSTART:20270320T190000Z
DTEND:20270320T170000Z
LOCATION:ESPAÇO PRINCESS
SUMMARY:Casamento Eduarda e Vinicius
DESCRIPTION:PRÉ RESERVA RESP TECA\nhttps://adm.nizogomide.com.br/blog/even
 ts/casamento-eduarda-e-vinicius/
URL:https://adm.nizogomide.com.br/blog/events/casamento-eduarda-e-vinicius/
END:VEVENT
END:VCALENDAR