BEGIN:VCALENDAR
VERSION:2.0
PRODID:-//eventon.com NONSGML v1.0//EN
CALSCALE:GREGORIAN
METHOD:PUBLISH
BEGIN:VEVENT
UID:69e5898c572e7
DTSTAMP:20260420T020356Z
DTSTART:20270418T200000Z
DTEND:20270418T130000Z
LOCATION:Clube Curitibano Sede Concórdia R Presidente Carlos Cavalcanti\,  815 - São Francisco Curitiba\,  PR | CE
SUMMARY:Casamento Duda e Douglas
DESCRIPTION:PRÉ RESERVA RESP NIZO\nhttps://adm.nizogomide.com.br/blog/even
 ts/casamento-duda-e-douglas/
URL:https://adm.nizogomide.com.br/blog/events/casamento-duda-e-douglas/
END:VEVENT
END:VCALENDAR