BEGIN:VCALENDAR
VERSION:2.0
PRODID:-//eventon.com NONSGML v1.0//EN
CALSCALE:GREGORIAN
METHOD:PUBLISH
BEGIN:VEVENT
UID:69e5773f13a1c
DTSTAMP:20260420T004551Z
DTSTART:20260507T210000Z
DTEND:20260508T010000Z
LOCATION:Klaine Garden Lounge R. Justo Manfron\,  1431 - Santa Felicidade\,  Curitiba - PR
SUMMARY:CORPORATIVO KLAINE
DESCRIPTION:Resp. Nizo\nhttps://adm.nizogomide.com.br/blog/events/corporati
 vo-klaine-2/
URL:https://adm.nizogomide.com.br/blog/events/corporativo-klaine-2/
END:VEVENT
END:VCALENDAR