BEGIN:VCALENDAR
VERSION:2.0
PRODID:-//eventon.com NONSGML v1.0//EN
CALSCALE:GREGORIAN
METHOD:PUBLISH
BEGIN:VEVENT
UID:69e5796c22e45
DTSTAMP:20260420T005508Z
DTSTART:20260505T210000Z
DTEND:20260506T010000Z
LOCATION:Klaine Garden Lounge R. Justo Manfron\,  1431 - Santa Felicidade\,  Curitiba - PR
SUMMARY:CORPORATIVO KLAINE
DESCRIPTION:Resp. Nizo&nbsp;\nhttps://adm.nizogomide.com.br/blog/events/cor
 porativo-klaine/
URL:https://adm.nizogomide.com.br/blog/events/corporativo-klaine/
END:VEVENT
END:VCALENDAR