BEGIN:VCALENDAR
VERSION:2.0
PRODID:-//eventon.com NONSGML v1.0//EN
CALSCALE:GREGORIAN
METHOD:PUBLISH
BEGIN:VEVENT
UID:69e5898c571cd
DTSTAMP:20260420T020356Z
DTSTART:20260514T230000Z
DTEND:20260515T020000Z
LOCATION:
SUMMARY:BERNARDO MANITA OCUPADO
DESCRIPTION:Crossroads\nhttps://adm.nizogomide.com.br/blog/events/bernardo-
 manita-ocupado-39/
URL:https://adm.nizogomide.com.br/blog/events/bernardo-manita-ocupado-39/
END:VEVENT
END:VCALENDAR