BEGIN:VCALENDAR
VERSION:2.0
PRODID:-//eventon.com NONSGML v1.0//EN
CALSCALE:GREGORIAN
METHOD:PUBLISH
BEGIN:VEVENT
UID:69e57d3005842
DTSTAMP:20260420T011112Z
DTSTART:20260926T190000Z
DTEND:20260926T190000Z
LOCATION:Iate Clube Joinville Joinville
SUMMARY:Casamento Vitoria e Pedro
DESCRIPTION:PRÉ RESERVA RESP TECA CERIMONIAL : HELENA\nhttps://adm.nizogom
 ide.com.br/blog/events/casamento-vitoria-e-pedro/
URL:https://adm.nizogomide.com.br/blog/events/casamento-vitoria-e-pedro/
END:VEVENT
END:VCALENDAR