BEGIN:VCALENDAR
VERSION:2.0
PRODID:-//eventon.com NONSGML v1.0//EN
CALSCALE:GREGORIAN
METHOD:PUBLISH
BEGIN:VEVENT
UID:69e57e2254208
DTSTAMP:20260420T011514Z
DTSTART:20260516T220000Z
DTEND:20260516T140000Z
LOCATION:Nuvem de Côco Buffet  R. Paulo Gorski\,  1740\,  Curitiba - PR
SUMMARY:Festa Aniversario Claudemir
DESCRIPTION:CONTRATO ASSINADO RESP NIZONUVE\nhttps://adm.nizogomide.com.br/
 blog/events/festa-aniversario-claudemir/
URL:https://adm.nizogomide.com.br/blog/events/festa-aniversario-claudemir/
END:VEVENT
END:VCALENDAR