BEGIN:VCALENDAR
VERSION:2.0
PRODID:-//eventon.com NONSGML v1.0//EN
CALSCALE:GREGORIAN
METHOD:PUBLISH
BEGIN:VEVENT
UID:69e5844f1558f
DTSTAMP:20260420T014135Z
DTSTART:20261205T140000Z
DTEND:20261206T025900Z
LOCATION:Belvedere Rua Silvio Dallagrana\,  5400 - Campo Largo - PR
SUMMARY:CASAMENTO MEIRI E GABRIEL
DESCRIPTION:CASAMENTO MEIRI E GABRIEL\nhttps://adm.nizogomide.com.br/blog/e
 vents/evento-belvedere/
URL:https://adm.nizogomide.com.br/blog/events/evento-belvedere/
END:VEVENT
END:VCALENDAR