BEGIN:VCALENDAR
VERSION:2.0
PRODID:-//eventon.com NONSGML v1.0//EN
CALSCALE:GREGORIAN
METHOD:PUBLISH
BEGIN:VEVENT
UID:69e586f8e2654
DTSTAMP:20260420T015256Z
DTSTART:20260528T220000Z
DTEND:20260529T010000Z
LOCATION:Clube Curitibano Sede Concórdia R Presidente Carlos Cavalcanti\,  815 - São Francisco Curitiba\,  PR | CE
SUMMARY:CORPORATIVO INAUGURAÇÃO CLUBE DO JAZZ CURITIBANO
DESCRIPTION:Resp. Grazi Contato Curitibano: Anna e Marco Duboc 80 pax\nhttp
 s://adm.nizogomide.com.br/blog/events/corporativo-inauguracao-clube-do-jazz
 -curitibano/
URL:https://adm.nizogomide.com.br/blog/events/corporativo-inauguracao-clube-do-jazz-curitibano/
END:VEVENT
END:VCALENDAR