BEGIN:VCALENDAR
VERSION:2.0
PRODID:-//eventon.com NONSGML v1.0//EN
CALSCALE:GREGORIAN
METHOD:PUBLISH
BEGIN:VEVENT
UID:69e58c90c807d
DTSTAMP:20260420T021648Z
DTSTART:20260513T180000Z
DTEND:20260513T180000Z
LOCATION:Central Hall R. João Negrão\,  1140 - Rebouças\,  Curitiba - PR\, 
SUMMARY:EVENTO CORPORATIVO TAESA
DESCRIPTION:100 PAX\nhttps://adm.nizogomide.com.br/blog/events/evento-corpo
 rativo-taesa/
URL:https://adm.nizogomide.com.br/blog/events/evento-corporativo-taesa/
END:VEVENT
END:VCALENDAR