BEGIN:VCALENDAR
VERSION:2.0
PRODID:-//eventon.com NONSGML v1.0//EN
CALSCALE:GREGORIAN
METHOD:PUBLISH
BEGIN:VEVENT
UID:69e57ac0e9f04
DTSTAMP:20260420T010048Z
DTSTART:20270424T140000Z
DTEND:20270424T140000Z
LOCATION:Indra Catering  Rua Dr. Reynaldo Machado\,  81 - Rebouças\,  Curitiba - PR
SUMMARY:CASAMENTO FERNANDA E LUIS FERNANDO
DESCRIPTION:150 PAX\nhttps://adm.nizogomide.com.br/blog/events/casamento-fe
 rnanda-e-luis-fernando/
URL:https://adm.nizogomide.com.br/blog/events/casamento-fernanda-e-luis-fernando/
END:VEVENT
END:VCALENDAR