BEGIN:VCALENDAR
VERSION:2.0
PRODID:-//eventon.com NONSGML v1.0//EN
CALSCALE:GREGORIAN
METHOD:PUBLISH
BEGIN:VEVENT
UID:69e57e22c1802
DTSTAMP:20260420T011514Z
DTSTART:20261017T120000Z
DTEND:20261017T120000Z
LOCATION:Foz do Iguaçu
SUMMARY:Casamento Sarah e Leo
DESCRIPTION:PRÉ RESERVA RESP TECA\nhttps://adm.nizogomide.com.br/blog/even
 ts/casamento-sarah-e-leo/
URL:https://adm.nizogomide.com.br/blog/events/casamento-sarah-e-leo/
END:VEVENT
END:VCALENDAR