BEGIN:VCALENDAR
VERSION:2.0
PRODID:-//eventon.com NONSGML v1.0//EN
CALSCALE:GREGORIAN
METHOD:PUBLISH
BEGIN:VEVENT
UID:69e57f20099cd
DTSTAMP:20260420T011928Z
DTSTART:20261031T190000Z
DTEND:20261031T190000Z
LOCATION:Graciosa Country Clube Av. Munhoz da Rocha\,  1146 - Cabral\,  Curitiba - PR
SUMMARY:Festa Anivesario 80 Anos para Cesar Monteiro
DESCRIPTION:PRÉ RESERVA RESP NIZO\nhttps://adm.nizogomide.com.br/blog/even
 ts/festa-anivesario-80-anos-para-cesar-monteiro/
URL:https://adm.nizogomide.com.br/blog/events/festa-anivesario-80-anos-para-cesar-monteiro/
END:VEVENT
END:VCALENDAR